BEGIN:VCALENDAR
VERSION:2.0
PRODID:-//June Scobee Rodgers//NONSGML v1.0//EN
CALSCALE:GREGORIAN
METHOD:PUBLISH
X-WR-CALNAME:June Scobee Rodgers
X-ORIGINAL-URL:https://www.junescobeerodgers.com
X-WR-CALDESC:Events for June Scobee Rodgers
X-WR-TIMEZONE:America/New_York
BEGIN:VEVENT
DTSTART;VALUE=DATE:20110822
DTEND;VALUE=DATE:20110826
DTSTAMP:20260421T082856
CREATED:20110817T193634
LAST-MODIFIED:20110818T160212
UID:1321@https://www.junescobeerodgers.com
SUMMARY:Challenger Center Annual Conference
DESCRIPTION:Challenger Center Annual Conference\, 25th Anniversary  Awards Banquet on the 24th\, Alrington\, VA  Anniversary Celebration\, Alexandria\, VA
LOCATION:
URL:https://www.junescobeerodgers.com/event/challenger-center-annual-conference/
END:VEVENT
END:VCALENDAR