BEGIN:VCALENDAR
VERSION:2.0
PRODID:-//June Scobee Rodgers//NONSGML v1.0//EN
CALSCALE:GREGORIAN
METHOD:PUBLISH
X-WR-CALNAME:June Scobee Rodgers
X-ORIGINAL-URL:https://www.junescobeerodgers.com
X-WR-CALDESC:Events for June Scobee Rodgers
X-WR-TIMEZONE:America/New_York
BEGIN:VEVENT
DTSTART;VALUE=DATE:20140529
DTEND;VALUE=DATE:20140530
DTSTAMP:20260424T083524
CREATED:20140506T134410
LAST-MODIFIED:20140506T134410
UID:1969@https://www.junescobeerodgers.com
SUMMARY:Challenger Center Board meeting
DESCRIPTION:
LOCATION:
URL:https://www.junescobeerodgers.com/event/challenger-center-board-meeting-2/
END:VEVENT
END:VCALENDAR