BEGIN:VCALENDAR
VERSION:2.0
PRODID:-//June Scobee Rodgers//NONSGML v1.0//EN
CALSCALE:GREGORIAN
METHOD:PUBLISH
X-WR-CALNAME:June Scobee Rodgers
X-ORIGINAL-URL:https://www.junescobeerodgers.com
X-WR-CALDESC:Events for June Scobee Rodgers
X-WR-TIMEZONE:America/New_York
BEGIN:VEVENT
DTSTART;VALUE=DATE:20130301
DTEND;VALUE=DATE:20130302
DTSTAMP:20260423T085706
CREATED:20130125T195544
LAST-MODIFIED:20130125T195544
UID:1671@https://www.junescobeerodgers.com
SUMMARY:Challenger Center Board meeting, Tallahassee, FL
DESCRIPTION:
LOCATION:Tallahassee, FL, United States
URL:https://www.junescobeerodgers.com/event/challenger-center-board-meeting-tallahassee-fl/
END:VEVENT
END:VCALENDAR