BEGIN:VCALENDAR
VERSION:2.0
PRODID:-//June Scobee Rodgers//NONSGML v1.0//EN
CALSCALE:GREGORIAN
METHOD:PUBLISH
X-WR-CALNAME:June Scobee Rodgers
X-ORIGINAL-URL:https://www.junescobeerodgers.com
X-WR-CALDESC:Events for June Scobee Rodgers
X-WR-TIMEZONE:America/New_York
BEGIN:VEVENT
DTSTART;VALUE=DATE:20160808
DTEND;VALUE=DATE:20160819
DTSTAMP:20260423T103159
CREATED:20160318T083944
LAST-MODIFIED:20160318T084317
UID:2188@https://www.junescobeerodgers.com
SUMMARY:Challenger Center International Board Meeting and Conference
DESCRIPTION:June will speak on August 8-18 at the Challenger Center International Board Meeting and Conference
LOCATION:
URL:https://www.junescobeerodgers.com/event/challenger-center-international-board-meeting-conference/
END:VEVENT
END:VCALENDAR