BEGIN:VCALENDAR
VERSION:2.0
PRODID:-//June Scobee Rodgers//NONSGML v1.0//EN
CALSCALE:GREGORIAN
METHOD:PUBLISH
X-WR-CALNAME:June Scobee Rodgers
X-ORIGINAL-URL:https://www.junescobeerodgers.com
X-WR-CALDESC:Events for June Scobee Rodgers
X-WR-TIMEZONE:America/New_York
BEGIN:VEVENT
DTSTART;VALUE=DATE:20150501
DTEND;VALUE=DATE:20150503
DTSTAMP:20260423T144919
CREATED:20150407T172458
LAST-MODIFIED:20150407T172458
UID:2049@https://www.junescobeerodgers.com
SUMMARY:Challenger Learning Center VIP Grand Opening, Schenectady, NY
DESCRIPTION:Celebration of the Challenger Learning Center VIP Grand Opening Reception and Open House\, Schenectady\, NY 
LOCATION:
URL:https://www.junescobeerodgers.com/event/challenger-learning-center-vip-grand-opening-schenectady-ny/
END:VEVENT
END:VCALENDAR