BEGIN:VCALENDAR
VERSION:2.0
PRODID:-//June Scobee Rodgers//NONSGML v1.0//EN
CALSCALE:GREGORIAN
METHOD:PUBLISH
X-WR-CALNAME:June Scobee Rodgers
X-ORIGINAL-URL:https://www.junescobeerodgers.com
X-WR-CALDESC:Events for June Scobee Rodgers
X-WR-TIMEZONE:America/New_York
BEGIN:VEVENT
DTSTART;VALUE=DATE:20160330
DTEND;VALUE=DATE:20160331
DTSTAMP:20260421T100211
CREATED:20160318T082849
LAST-MODIFIED:20160318T082849
UID:2163@https://www.junescobeerodgers.com
SUMMARY:Chattanooga Challenger Center
DESCRIPTION:June will speak on March 30 at Chattanooga Challenger Center with Astronaut Rhea Seddon
LOCATION:Chattanooga Challenger Center, 855 E 5th St,  Chattanooga,, TN, United States, 37403
URL:https://www.junescobeerodgers.com/event/chattanooga-challenger-center/
END:VEVENT
END:VCALENDAR