BEGIN:VCALENDAR
VERSION:2.0
PRODID:-//June Scobee Rodgers//NONSGML v1.0//EN
CALSCALE:GREGORIAN
METHOD:PUBLISH
X-WR-CALNAME:June Scobee Rodgers
X-ORIGINAL-URL:https://www.junescobeerodgers.com
X-WR-CALDESC:Events for June Scobee Rodgers
X-WR-TIMEZONE:America/New_York
BEGIN:VEVENT
DTSTART;VALUE=DATE-TIME:20130316T153000
DTEND;VALUE=DATE-TIME:20130316T223000
DTSTAMP:20260425T125614
CREATED:20130315T111745
LAST-MODIFIED:20130315T112338
UID:1685@https://www.junescobeerodgers.com
SUMMARY:Explorer's Club Dinner
DESCRIPTION:More information at www.explorers.org
LOCATION:New York City, NY, United States
URL:https://www.junescobeerodgers.com/event/explorers-club-dinner/
END:VEVENT
END:VCALENDAR