BEGIN:VCALENDAR
VERSION:2.0
PRODID:-//June Scobee Rodgers//NONSGML v1.0//EN
CALSCALE:GREGORIAN
METHOD:PUBLISH
X-WR-CALNAME:June Scobee Rodgers
X-ORIGINAL-URL:https://www.junescobeerodgers.com
X-WR-CALDESC:Events for June Scobee Rodgers
X-WR-TIMEZONE:America/New_York
BEGIN:VEVENT
DTSTART;VALUE=DATE:20161103
DTEND;VALUE=DATE:20161105
DTSTAMP:20260423T121148
CREATED:20160318T084032
LAST-MODIFIED:20160318T084102
UID:2195@https://www.junescobeerodgers.com
SUMMARY:Keynote speaker for the National Association for Gifted Students
DESCRIPTION:June will speak on November 3-4 at DisneyWorld as Keynote speaker for the National Association for Gifted Students. 
LOCATION:
URL:https://www.junescobeerodgers.com/event/keynote-speaker-national-association-gifted-students/
END:VEVENT
END:VCALENDAR