BEGIN:VCALENDAR
VERSION:2.0
PRODID:-//June Scobee Rodgers//NONSGML v1.0//EN
CALSCALE:GREGORIAN
METHOD:PUBLISH
X-WR-CALNAME:June Scobee Rodgers
X-ORIGINAL-URL:https://www.junescobeerodgers.com
X-WR-CALDESC:Events for June Scobee Rodgers
X-WR-TIMEZONE:America/New_York
BEGIN:VEVENT
DTSTART;VALUE=DATE:20140307
DTEND;VALUE=DATE:20140308
DTSTAMP:20260422T101718
CREATED:20140306T095530
LAST-MODIFIED:20140306T095530
UID:1900@https://www.junescobeerodgers.com
SUMMARY:Lincoln Dinner
DESCRIPTION:
LOCATION:Chattanooga, TN, United States
URL:https://www.junescobeerodgers.com/event/lincoln-dinner/
END:VEVENT
END:VCALENDAR