BEGIN:VCALENDAR
VERSION:2.0
PRODID:-//June Scobee Rodgers//NONSGML v1.0//EN
CALSCALE:GREGORIAN
METHOD:PUBLISH
X-WR-CALNAME:June Scobee Rodgers
X-ORIGINAL-URL:https://www.junescobeerodgers.com
X-WR-CALDESC:Events for June Scobee Rodgers
X-WR-TIMEZONE:America/New_York
BEGIN:VEVENT
DTSTART;VALUE=DATE:20150329
DTEND;VALUE=DATE:20150330
DTSTAMP:20260421T082814
CREATED:20150408T084431
LAST-MODIFIED:20150408T084431
UID:2070@https://www.junescobeerodgers.com
SUMMARY:Professional Growth Seminar for Church Business Leaders, San Antonio, Texas
DESCRIPTION:Keynote speaker for the Professional Growth Seminar for Church Business Leaders provided by the North American Division of Seventh-Day Adventist and the Institute of Ethical Leadership.  "Tragedy: Springboard to Defeat or Triumph." San Antonio\, Texas
LOCATION:
URL:https://www.junescobeerodgers.com/event/professional-growth-seminar-for-church-business-leaders-san-antonio-texas/
END:VEVENT
END:VCALENDAR