BEGIN:VCALENDAR
VERSION:2.0
PRODID:-//June Scobee Rodgers//NONSGML v1.0//EN
CALSCALE:GREGORIAN
METHOD:PUBLISH
X-WR-CALNAME:June Scobee Rodgers
X-ORIGINAL-URL:https://www.junescobeerodgers.com
X-WR-CALDESC:Events for June Scobee Rodgers
X-WR-TIMEZONE:America/New_York
BEGIN:VEVENT
DTSTART;VALUE=DATE:20111104
DTEND;VALUE=DATE:20111105
DTSTAMP:20260421T082407
CREATED:20110817T194558
LAST-MODIFIED:20110817T194558
UID:1328@https://www.junescobeerodgers.com
SUMMARY:Texas A&M University
DESCRIPTION:Texas A&M University Award Presentation  College Station\, TX
LOCATION:
URL:https://www.junescobeerodgers.com/event/texas-am-university/
END:VEVENT
END:VCALENDAR